BEGIN:VCALENDAR
VERSION:2.0
PRODID:-//Stingray Media - ECPv6.15.20//NONSGML v1.0//EN
CALSCALE:GREGORIAN
METHOD:PUBLISH
X-WR-CALNAME:Stingray Media
X-ORIGINAL-URL:https://stingraymedia.com
X-WR-CALDESC:Events for Stingray Media
REFRESH-INTERVAL;VALUE=DURATION:PT1H
X-Robots-Tag:noindex
X-PUBLISHED-TTL:PT1H
BEGIN:VTIMEZONE
TZID:America/New_York
BEGIN:DAYLIGHT
TZOFFSETFROM:-0500
TZOFFSETTO:-0400
TZNAME:EDT
DTSTART:20240310T070000
END:DAYLIGHT
BEGIN:STANDARD
TZOFFSETFROM:-0400
TZOFFSETTO:-0500
TZNAME:EST
DTSTART:20241103T060000
END:STANDARD
BEGIN:DAYLIGHT
TZOFFSETFROM:-0500
TZOFFSETTO:-0400
TZNAME:EDT
DTSTART:20250309T070000
END:DAYLIGHT
BEGIN:STANDARD
TZOFFSETFROM:-0400
TZOFFSETTO:-0500
TZNAME:EST
DTSTART:20251102T060000
END:STANDARD
BEGIN:DAYLIGHT
TZOFFSETFROM:-0500
TZOFFSETTO:-0400
TZNAME:EDT
DTSTART:20260308T070000
END:DAYLIGHT
BEGIN:STANDARD
TZOFFSETFROM:-0400
TZOFFSETTO:-0500
TZNAME:EST
DTSTART:20261101T060000
END:STANDARD
END:VTIMEZONE
BEGIN:VEVENT
DTSTART;VALUE=DATE:20251205
DTEND;VALUE=DATE:20251206
DTSTAMP:20260421T095951
CREATED:20250129T172219Z
LAST-MODIFIED:20251120T142757Z
UID:4781-1764892800-1764979199@stingraymedia.com
SUMMARY:Operation End Hunger
DESCRIPTION:Food donations go to Meals on Wheels\, Cayman Food Bank\, NCVO\, various church pantries\, and cash donations will provide boxed meals courtesy of Subway. \nCayman has so many great organizations providing food for families going through some tough times.  Without these charities\, too many families would go hungry. \nDuring this season of giving our stations will encourage our listeners to provide a non-perishable food item\, a boxed meal from Subway through cash donation or grocery store gift card to help fill this need.   Donations will be accepted at Stingray Meida located at 38 Godfrey Nixon Way and at our various events. \nAND Join the Stingray Media on December 5th \, 11:00am to 2:00pm at Cost U Less. \nWe invite the public to join us for the final Operation End Hunger push.   We will accept food and cash 😊 It’s also a perfect time for people to clean out their hurricane kits. \nProudly Presented by:\n \nSupporting Sponsors:
URL:https://stingraymedia.com/event/operation-end-hunger/
CATEGORIES:Events
ATTACH;FMTTYPE=image/png:https://stingraymedia.com/wp-content/uploads/2025/01/OEH-1.png
END:VEVENT
END:VCALENDAR